BEGIN:VCALENDAR
VERSION:2.0
PRODID:-//CAU - ECPv6.15.20//NONSGML v1.0//EN
CALSCALE:GREGORIAN
METHOD:PUBLISH
X-ORIGINAL-URL:https://calaero.edu
X-WR-CALDESC:Events for CAU
REFRESH-INTERVAL;VALUE=DURATION:PT1H
X-Robots-Tag:noindex
X-PUBLISHED-TTL:PT1H
BEGIN:VTIMEZONE
TZID:America/Los_Angeles
BEGIN:DAYLIGHT
TZOFFSETFROM:-0800
TZOFFSETTO:-0700
TZNAME:PDT
DTSTART:20250309T100000
END:DAYLIGHT
BEGIN:STANDARD
TZOFFSETFROM:-0700
TZOFFSETTO:-0800
TZNAME:PST
DTSTART:20251102T090000
END:STANDARD
BEGIN:DAYLIGHT
TZOFFSETFROM:-0800
TZOFFSETTO:-0700
TZNAME:PDT
DTSTART:20260308T100000
END:DAYLIGHT
BEGIN:STANDARD
TZOFFSETFROM:-0700
TZOFFSETTO:-0800
TZNAME:PST
DTSTART:20261101T090000
END:STANDARD
BEGIN:DAYLIGHT
TZOFFSETFROM:-0800
TZOFFSETTO:-0700
TZNAME:PDT
DTSTART:20270314T100000
END:DAYLIGHT
BEGIN:STANDARD
TZOFFSETFROM:-0700
TZOFFSETTO:-0800
TZNAME:PST
DTSTART:20271107T090000
END:STANDARD
BEGIN:DAYLIGHT
TZOFFSETFROM:-0800
TZOFFSETTO:-0700
TZNAME:PDT
DTSTART:20280312T100000
END:DAYLIGHT
BEGIN:STANDARD
TZOFFSETFROM:-0700
TZOFFSETTO:-0800
TZNAME:PST
DTSTART:20281105T090000
END:STANDARD
END:VTIMEZONE
BEGIN:VEVENT
DTSTART;TZID=America/Los_Angeles:20260424T090000
DTEND;TZID=America/Los_Angeles:20260426T170000
DTSTAMP:20260423T075525
CREATED:20260423T144517Z
LAST-MODIFIED:20260423T144537Z
UID:10000611-1777021200-1777222800@calaero.edu
SUMMARY:Wings Over Solano - 2026 | Admissions Events
DESCRIPTION:Join California Aeronautical University at this year’s Wings Over Solano Air Show at Travis Air Force Base. \nThis year’s Wings Over Solano features thrilling aerial displays headlined by the renowned Blue Angels. Free to the public\, the Air Show will also include a family fun zone\, static aircraft displays\, food and merchandise vendors\, and premier seating. \nCAU is excited to engage with the community and showcase our passion for flight. Our interactive trailer and tribute aircraft will be on display for the public to explore\, offering a firsthand glimpse into the world of aviation. \nStop by our booth to say hi!
URL:https://calaero.edu/event/wings-over-solano-2026/
LOCATION:Travis Air Force Base
CATEGORIES:Air Shows
END:VEVENT
BEGIN:VEVENT
DTSTART;VALUE=DATE:20260525
DTEND;VALUE=DATE:20260526
DTSTAMP:20260423T075525
CREATED:20251209T160132Z
LAST-MODIFIED:20251209T161645Z
UID:10000583-1779667200-1779753599@calaero.edu
SUMMARY:Memorial Day | Academic Calendar
DESCRIPTION:STUDENT HOLIDAYS/FLIGHT OPERATIONS CLOSED\nMonday\, January 19\, 2026 Martin Luther King\, Jr.’s Day\nMonday\, February 16\, 2026 President’s Day\nFriday – Sunday\, April 3 – 5\, 2026 Spring Break\nMonday\, May 25\, 2026 Memorial Day\nSaturday\, July 4\, 2026 Independence Day\nMonday\, September 7\, 2026 Labor Day\nWednesday\, November 11\, 2026 Veteran’s Day\nWednesday – Sunday\, November 25 – 29\, 2026 Thanksgiving Holiday \nANNUAL CAMPUS CLOSURE\nSaturday\, December 19 – Sunday\, January 3\, 2027 Winter Brea
URL:https://calaero.edu/event/2026-memorial-day/
CATEGORIES:Student Holiday,Student Life
END:VEVENT
BEGIN:VEVENT
DTSTART;VALUE=DATE:20260525
DTEND;VALUE=DATE:20260805
DTSTAMP:20260423T075525
CREATED:20251209T154638Z
LAST-MODIFIED:20251209T201052Z
UID:10000577-1779667200-1785887999@calaero.edu
SUMMARY:May Term Begins | Academic Calendar
DESCRIPTION:Term Start Date – Term End Date\nMonday\, January 5\, 2026 – Sunday\, March 15\, 2026\nMonday\, March 16\, 2026 – Sunday\, May 24\, 2026\nMonday\, May 25\, 2026 – Sunday\, August 2\, 2026\nMonday\, August 3\, 2026 – Sunday\, October 11\, 2026\nMonday\, October 12\, 2026 – Friday\, December 18\, 2026 \nModule Start Date (MAS/AMT) – Module End Date\nMonday\, January 5\, 2026 – Sunday\, February 8\, 2026\nMonday\, February 9\, 2026 – Sunday\, March 15\, 2026\nMonday\, March 16\, 2026 – Sunday\, April 19\, 2026\nMonday\, April 20\, 2026 – Sunday\, May 24\, 2026\nMonday\, May 25\, 2026 – Sunday\, June 28\, 2026\nMonday\, June 29\, 2026 – Sunday\, August 2\, 2026\nMonday\, August 3\, 2026 – Sunday\, September 6\, 2026\nMonday\, September 7\, – 2026 Sunday\, October 11\, 2026\nMonday\, October 12\, – 2026 Sunday\, November 15\, 2026\nMonday\, November 16\, – 2026 Friday\, December 18\, 2026 \nSTUDENT HOLIDAYS/FLIGHT OPERATIONS CLOSED \n\nMonday\, January 19\, 2026 Martin Luther King\, Jr.’s Day\nMonday\, February 16\, 2026 President’s Day\nFriday – Sunday\, April 3 – 5\, 2026 Spring Break\nMonday\, May 25\, 2026 Memorial Day\nSaturday\, July 4\, 2026 Independence Day\nMonday\, September 7\, 2026 Labor Day\nWednesday\, November 11\, 2026 Veteran’s Day\nWednesday – Sunday\, November 25 – 29\, 2026 Thanksgiving Holiday\n\nANNUAL CAMPUS CLOSURE\nSaturday\, December 19 – Sunday\, January 3\, 2027 Winter Break
URL:https://calaero.edu/event/2026-may-to-august-term/
CATEGORIES:Academic Calendar
END:VEVENT
BEGIN:VEVENT
DTSTART;VALUE=DATE:20260704
DTEND;VALUE=DATE:20260705
DTSTAMP:20260423T075525
CREATED:20251209T160236Z
LAST-MODIFIED:20251209T161630Z
UID:10000584-1783123200-1783209599@calaero.edu
SUMMARY:Independence Day | Academic Calendar
DESCRIPTION:STUDENT HOLIDAYS/FLIGHT OPERATIONS CLOSED\nMonday\, January 19\, 2026 Martin Luther King\, Jr.’s Day\nMonday\, February 16\, 2026 President’s Day\nFriday – Sunday\, April 3 – 5\, 2026 Spring Break\nMonday\, May 25\, 2026 Memorial Day\nSaturday\, July 4\, 2026 Independence Day\nMonday\, September 7\, 2026 Labor Day\nWednesday\, November 11\, 2026 Veteran’s Day\nWednesday – Sunday\, November 25 – 29\, 2026 Thanksgiving Holiday \nANNUAL CAMPUS CLOSURE\nSaturday\, December 19 – Sunday\, January 3\, 2027 Winter Break
URL:https://calaero.edu/event/2026-independence-day/
CATEGORIES:Student Holiday,Student Life
END:VEVENT
BEGIN:VEVENT
DTSTART;VALUE=DATE:20260803
DTEND;VALUE=DATE:20261012
DTSTAMP:20260423T075525
CREATED:20251209T154738Z
LAST-MODIFIED:20251209T201119Z
UID:10000578-1785715200-1791763199@calaero.edu
SUMMARY:August Term Begins | Academic Calendar
DESCRIPTION:Term Start Date – Term End Date\nMonday\, January 5\, 2026 – Sunday\, March 15\, 2026\nMonday\, March 16\, 2026 – Sunday\, May 24\, 2026\nMonday\, May 25\, 2026 – Sunday\, August 2\, 2026\nMonday\, August 3\, 2026 – Sunday\, October 11\, 2026\nMonday\, October 12\, 2026 – Friday\, December 18\, 2026 \nModule Start Date (MAS/AMT) – Module End Date\nMonday\, January 5\, 2026 – Sunday\, February 8\, 2026\nMonday\, February 9\, 2026 – Sunday\, March 15\, 2026\nMonday\, March 16\, 2026 – Sunday\, April 19\, 2026\nMonday\, April 20\, 2026 – Sunday\, May 24\, 2026\nMonday\, May 25\, 2026 – Sunday\, June 28\, 2026\nMonday\, June 29\, 2026 – Sunday\, August 2\, 2026\nMonday\, August 3\, 2026 – Sunday\, September 6\, 2026\nMonday\, September 7\, – 2026 Sunday\, October 11\, 2026\nMonday\, October 12\, – 2026 Sunday\, November 15\, 2026\nMonday\, November 16\, – 2026 Friday\, December 18\, 2026 \nSTUDENT HOLIDAYS/FLIGHT OPERATIONS CLOSED \n\nMonday\, January 19\, 2026 Martin Luther King\, Jr.’s Day\nMonday\, February 16\, 2026 President’s Day\nFriday – Sunday\, April 3 – 5\, 2026 Spring Break\nMonday\, May 25\, 2026 Memorial Day\nSaturday\, July 4\, 2026 Independence Day\nMonday\, September 7\, 2026 Labor Day\nWednesday\, November 11\, 2026 Veteran’s Day\nWednesday – Sunday\, November 25 – 29\, 2026 Thanksgiving Holiday\n\nANNUAL CAMPUS CLOSURE\nSaturday\, December 19 – Sunday\, January 3\, 2027 Winter Break
URL:https://calaero.edu/event/2026-august-october-term/
CATEGORIES:Academic Calendar
END:VEVENT
BEGIN:VEVENT
DTSTART;VALUE=DATE:20260907
DTEND;VALUE=DATE:20260908
DTSTAMP:20260423T075525
CREATED:20251209T160411Z
LAST-MODIFIED:20251209T161616Z
UID:10000585-1788739200-1788825599@calaero.edu
SUMMARY:Labor Day | Academic Calendar
DESCRIPTION:STUDENT HOLIDAYS/FLIGHT OPERATIONS CLOSED\nMonday\, January 19\, 2026 Martin Luther King\, Jr.’s Day\nMonday\, February 16\, 2026 President’s Day\nFriday – Sunday\, April 3 – 5\, 2026 Spring Break\nMonday\, May 25\, 2026 Memorial Day\nSaturday\, July 4\, 2026 Independence Day\nMonday\, September 7\, 2026 Labor Day\nWednesday\, November 11\, 2026 Veteran’s Day\nWednesday – Sunday\, November 25 – 29\, 2026 Thanksgiving Holiday \nANNUAL CAMPUS CLOSURE\nSaturday\, December 19 – Sunday\, January 3\, 2027 Winter Break
URL:https://calaero.edu/event/2026-labor-day/
CATEGORIES:Student Holiday,Student Life
END:VEVENT
BEGIN:VEVENT
DTSTART;VALUE=DATE:20261012
DTEND;VALUE=DATE:20261219
DTSTAMP:20260423T075525
CREATED:20251209T154827Z
LAST-MODIFIED:20251209T201147Z
UID:10000579-1791763200-1797638399@calaero.edu
SUMMARY:October Term Begins | Academic Calendar
DESCRIPTION:STUDENT HOLIDAYS/FLIGHT OPERATIONS CLOSED \n\nMonday\, January 19\, 2026 Martin Luther King\, Jr.’s Day\nMonday\, February 16\, 2026 President’s Day\nFriday – Sunday\, April 3 – 5\, 2026 Spring Break\nMonday\, May 25\, 2026 Memorial Day\nSaturday\, July 4\, 2026 Independence Day\nMonday\, September 7\, 2026 Labor Day\nWednesday\, November 11\, 2026 Veteran’s Day\nWednesday – Sunday\, November 25 – 29\, 2026 Thanksgiving Holiday\n\nANNUAL CAMPUS CLOSURE\nSaturday\, December 19 – Sunday\, January 3\, 2027 Winter Break
URL:https://calaero.edu/event/2026-october-december-term/
CATEGORIES:Academic Calendar
END:VEVENT
BEGIN:VEVENT
DTSTART;VALUE=DATE:20261111
DTEND;VALUE=DATE:20261112
DTSTAMP:20260423T075525
CREATED:20251209T160538Z
LAST-MODIFIED:20251209T161602Z
UID:10000586-1794355200-1794441599@calaero.edu
SUMMARY:Veteran's Day | Academic Calendar
DESCRIPTION:STUDENT HOLIDAYS/FLIGHT OPERATIONS CLOSED\nMonday\, January 19\, 2026 Martin Luther King\, Jr.’s Day\nMonday\, February 16\, 2026 President’s Day\nFriday – Sunday\, April 3 – 5\, 2026 Spring Break\nMonday\, May 25\, 2026 Memorial Day\nSaturday\, July 4\, 2026 Independence Day\nMonday\, September 7\, 2026 Labor Day\nWednesday\, November 11\, 2026 Veteran’s Day\nWednesday – Sunday\, November 25 – 29\, 2026 Thanksgiving Holiday \nANNUAL CAMPUS CLOSURE\nSaturday\, December 19 – Sunday\, January 3\, 2027 Winter Break
URL:https://calaero.edu/event/2026-veterans-day/
CATEGORIES:Student Holiday,Student Life
END:VEVENT
BEGIN:VEVENT
DTSTART;VALUE=DATE:20261125
DTEND;VALUE=DATE:20261130
DTSTAMP:20260423T075525
CREATED:20251209T160728Z
LAST-MODIFIED:20251209T161556Z
UID:10000587-1795564800-1795996799@calaero.edu
SUMMARY:Thanksgiving Holiday Break | Academic Calendar
DESCRIPTION:STUDENT HOLIDAYS/FLIGHT OPERATIONS CLOSED\nMonday\, January 19\, 2026 Martin Luther King\, Jr.’s Day\nMonday\, February 16\, 2026 President’s Day\nFriday – Sunday\, April 3 – 5\, 2026 Spring Break\nMonday\, May 25\, 2026 Memorial Day\nSaturday\, July 4\, 2026 Independence Day\nMonday\, September 7\, 2026 Labor Day\nWednesday\, November 11\, 2026 Veteran’s Day\nWednesday – Sunday\, November 25 – 29\, 2026 Thanksgiving Holiday \nANNUAL CAMPUS CLOSURE\nSaturday\, December 19 – Sunday\, January 3\, 2027 Winter Break
URL:https://calaero.edu/event/2026-thanksgiving-holiday-break/
CATEGORIES:Student Holiday,Student Life
END:VEVENT
BEGIN:VEVENT
DTSTART;VALUE=DATE:20261219
DTEND;VALUE=DATE:20270104
DTSTAMP:20260423T075525
CREATED:20251209T160843Z
LAST-MODIFIED:20251209T161547Z
UID:10000588-1797638400-1799020799@calaero.edu
SUMMARY:Winter Break | Academic Calendar
DESCRIPTION:STUDENT HOLIDAYS/FLIGHT OPERATIONS CLOSED\nMonday\, January 19\, 2026 Martin Luther King\, Jr.’s Day\nMonday\, February 16\, 2026 President’s Day\nFriday – Sunday\, April 3 – 5\, 2026 Spring Break\nMonday\, May 25\, 2026 Memorial Day\nSaturday\, July 4\, 2026 Independence Day\nMonday\, September 7\, 2026 Labor Day\nWednesday\, November 11\, 2026 Veteran’s Day\nWednesday – Sunday\, November 25 – 29\, 2026 Thanksgiving Holiday \nANNUAL CAMPUS CLOSURE\nSaturday\, December 19 – Sunday\, January 3\, 2027 Winter Break
URL:https://calaero.edu/event/2026-winter-break/
CATEGORIES:Student Holiday,Student Life
END:VEVENT
END:VCALENDAR