BEGIN:VCALENDAR
VERSION:2.0
PRODID:-//CAU - ECPv6.15.20//NONSGML v1.0//EN
CALSCALE:GREGORIAN
METHOD:PUBLISH
X-WR-CALNAME:CAU
X-ORIGINAL-URL:https://calaero.edu
X-WR-CALDESC:Events for CAU
REFRESH-INTERVAL;VALUE=DURATION:PT1H
X-Robots-Tag:noindex
X-PUBLISHED-TTL:PT1H
BEGIN:VTIMEZONE
TZID:America/Los_Angeles
BEGIN:DAYLIGHT
TZOFFSETFROM:-0800
TZOFFSETTO:-0700
TZNAME:PDT
DTSTART:20240310T100000
END:DAYLIGHT
BEGIN:STANDARD
TZOFFSETFROM:-0700
TZOFFSETTO:-0800
TZNAME:PST
DTSTART:20241103T090000
END:STANDARD
BEGIN:DAYLIGHT
TZOFFSETFROM:-0800
TZOFFSETTO:-0700
TZNAME:PDT
DTSTART:20250309T100000
END:DAYLIGHT
BEGIN:STANDARD
TZOFFSETFROM:-0700
TZOFFSETTO:-0800
TZNAME:PST
DTSTART:20251102T090000
END:STANDARD
BEGIN:DAYLIGHT
TZOFFSETFROM:-0800
TZOFFSETTO:-0700
TZNAME:PDT
DTSTART:20260308T100000
END:DAYLIGHT
BEGIN:STANDARD
TZOFFSETFROM:-0700
TZOFFSETTO:-0800
TZNAME:PST
DTSTART:20261101T090000
END:STANDARD
END:VTIMEZONE
BEGIN:VEVENT
DTSTART;TZID=America/Los_Angeles:20250908T180000
DTEND;TZID=America/Los_Angeles:20250908T210000
DTSTAMP:20260419T074151
CREATED:20250910T144158Z
LAST-MODIFIED:20251110T194003Z
UID:10000549-1757354400-1757365200@calaero.edu
SUMMARY:Kern County College Night | Admissions Events
DESCRIPTION:26th Annual College Night
URL:https://calaero.edu/event/kern-county-college-night/
LOCATION:Dignity Health Arena\, 1001 Truxton Ave\, Bakersfield\, CA\, 93301\, United States
CATEGORIES:College & Career Fairs
GEO:35.3725797;-119.0121675
X-APPLE-STRUCTURED-LOCATION;VALUE=URI;X-ADDRESS=Dignity Health Arena 1001 Truxton Ave Bakersfield CA 93301 United States;X-APPLE-RADIUS=500;X-TITLE=1001 Truxton Ave:geo:-119.0121675,35.3725797
END:VEVENT
BEGIN:VEVENT
DTSTART;TZID=America/Los_Angeles:20250909T183000
DTEND;TZID=America/Los_Angeles:20250909T203000
DTSTAMP:20260419T074151
CREATED:20250910T144638Z
LAST-MODIFIED:20251110T193957Z
UID:10000550-1757442600-1757449800@calaero.edu
SUMMARY:Tulare County College Night | Admissions Events
DESCRIPTION:
URL:https://calaero.edu/event/tulare-county-college-night/
LOCATION:Visalia Convention Center\, 303 E Acequia Ave\, Visalia\, CA\, 93291\, United States
CATEGORIES:College & Career Fairs
GEO:36.3287004;-119.2907616
X-APPLE-STRUCTURED-LOCATION;VALUE=URI;X-ADDRESS=Visalia Convention Center 303 E Acequia Ave Visalia CA 93291 United States;X-APPLE-RADIUS=500;X-TITLE=303 E Acequia Ave:geo:-119.2907616,36.3287004
END:VEVENT
BEGIN:VEVENT
DTSTART;TZID=America/Los_Angeles:20250909T203000
DTEND;TZID=America/Los_Angeles:20250909T203000
DTSTAMP:20260419T074151
CREATED:20250909T164427Z
LAST-MODIFIED:20251110T193336Z
UID:10000545-1757449800-1757449800@calaero.edu
SUMMARY:Smoothie Competition | CAU Student Life
DESCRIPTION:*For CAU Students only.
URL:https://calaero.edu/event/smoothie-competition/
LOCATION:CA
CATEGORIES:Student Life
ATTACH;FMTTYPE=image/png:https://calaero.edu/wp-content/uploads/2025/09/all-that-and-a.png
END:VEVENT
BEGIN:VEVENT
DTSTART;TZID=America/Los_Angeles:20250910T123000
DTEND;TZID=America/Los_Angeles:20250910T223000
DTSTAMP:20260419T074151
CREATED:20250910T150250Z
LAST-MODIFIED:20251110T194147Z
UID:10000552-1757507400-1757543400@calaero.edu
SUMMARY:Chat with Alumni - Miquel Diaz | Graduate Services Events
DESCRIPTION:Join us! CAU is hosting an alumni presentation to give students an insight into a graduate’s journey to their aviation career. \nAlumni Speaker: Miguel Diaz
URL:https://calaero.edu/event/chat-with-alumni-miguel-diaz/
LOCATION:California Aeronautical University – Bakersfield\, 1450 Boughton Drive\, Bakersfield\, CA\, 93308\, United States
CATEGORIES:Alumni Visits
GEO:35.4348752;-119.0492542
X-APPLE-STRUCTURED-LOCATION;VALUE=URI;X-ADDRESS=California Aeronautical University – Bakersfield 1450 Boughton Drive Bakersfield CA 93308 United States;X-APPLE-RADIUS=500;X-TITLE=1450 Boughton Drive:geo:-119.0492542,35.4348752
END:VEVENT
BEGIN:VEVENT
DTSTART;TZID=America/Los_Angeles:20250910T190000
DTEND;TZID=America/Los_Angeles:20250910T210000
DTSTAMP:20260419T074151
CREATED:20250910T144908Z
LAST-MODIFIED:20251110T193952Z
UID:10000551-1757530800-1757538000@calaero.edu
SUMMARY:Fresno Area College Night | Admissions Events
DESCRIPTION:
URL:https://calaero.edu/event/fresno-area-college-night/
LOCATION:Fresno Convention Center\, 848 M Street\, Snd Floor\, Fresno\, CA\, 93721\, United States
CATEGORIES:College & Career Fairs
GEO:36.7343715;-119.7834974
X-APPLE-STRUCTURED-LOCATION;VALUE=URI;X-ADDRESS=Fresno Convention Center 848 M Street Snd Floor Fresno CA 93721 United States;X-APPLE-RADIUS=500;X-TITLE=848 M Street\, Snd Floor:geo:-119.7834974,36.7343715
END:VEVENT
BEGIN:VEVENT
DTSTART;TZID=America/Los_Angeles:20250913T090000
DTEND;TZID=America/Los_Angeles:20250913T120000
DTSTAMP:20260419T074151
CREATED:20250801T202923Z
LAST-MODIFIED:20251110T193648Z
UID:10000540-1757754000-1757764800@calaero.edu
SUMMARY:Open House - Ventura Country - Sep. 2025 | Admissions Events
DESCRIPTION:Join Us To Find Out More About CAU And Get Started On Your Aviation Journey						\n											\n						\n					\n					\n\n\n\n\n\n\n\n\nJoin us at California Aeronautical University’s Ventura County campus for an Open House event designed to give you a firsthand look at life as a CAU student. Located at Oxnard Airport\, CAU offers a less congested\, more efficient training environment than busier airports\, with a realistic and convenient commute for students from the San Fernando Valley\, Thousand Oaks\, and surrounding areas. \nWhether you’re just starting to explore your options or ready to launch your pilot career\, Open House is a great opportunity to tour the campus\, meet with admissions\, and see how CAU Oxnard (opens in a new window) delivers a career-oriented\, aviation-focused university experience—without the four-year delay or big-city distractions. \nOpen House Features:\n\nCampus tour\nSee our fleet of aircraft\nSpeak with admissions\nAsk questions about cost and financial aid\nAnd more!\n\n\n\n\n\n\n\n\n		\n	\n\n\n\n\n\nSchedule:\n\n\n\n9:00a – 9:15a\nCheck-in\n\n\n9:15a – 10:30a\nAdmissions presentation\n\n\n10:30a – 10:45a\nQ&A session\n\n\n10:45a – 11:30a\nCampus tour\n\n\n11:30a – 12:00p\nClosing Q&A session\n\n\n\n\n\n\n\n\n\n\n\n							\n						RSVP Today						\n											\n						\n					\n					\n\n<script charset="utf-8" type="text/javascript" src="//js-na2.hsforms.net/forms/embed/v2.js"></script>\n<script>\n  hbspt.forms.create({\n    portalId: "6842805"\,\n    formId: "310067e1-eba1-4fcf-b95c-da148fbf12e3"\,\n    region: "na2"\n  });\n</script>
URL:https://calaero.edu/event/open-house-ventura-country-sep-2025/
LOCATION:CAU Ventura County\, 1601 WEST 5TH STREET\, OXNARD\, CA\, 93030\, United States
CATEGORIES:Open Houses
ATTACH;FMTTYPE=image/jpeg:https://calaero.edu/wp-content/uploads/2022/03/Ventura-County-Flight-Training-Center-scaled-e1627499020346.jpeg
GEO:34.1981333;-119.1977421
X-APPLE-STRUCTURED-LOCATION;VALUE=URI;X-ADDRESS=CAU Ventura County 1601 WEST 5TH STREET OXNARD CA 93030 United States;X-APPLE-RADIUS=500;X-TITLE=1601 WEST 5TH STREET:geo:-119.1977421,34.1981333
END:VEVENT
BEGIN:VEVENT
DTSTART;TZID=America/Los_Angeles:20250913T120000
DTEND;TZID=America/Los_Angeles:20250913T120000
DTSTAMP:20260419T074151
CREATED:20250909T164110Z
LAST-MODIFIED:20251110T193330Z
UID:10000544-1757764800-1757764800@calaero.edu
SUMMARY:Splash n' Dash | CAU Student Life
DESCRIPTION:*For CAU Students only.
URL:https://calaero.edu/event/splash-n-dash/
LOCATION:CA
CATEGORIES:Student Life
ATTACH;FMTTYPE=image/png:https://calaero.edu/wp-content/uploads/2025/09/Splash-n-Dash.png
END:VEVENT
END:VCALENDAR