BEGIN:VCALENDAR
VERSION:2.0
PRODID:-//CAU - ECPv6.15.20//NONSGML v1.0//EN
CALSCALE:GREGORIAN
METHOD:PUBLISH
X-ORIGINAL-URL:https://calaero.edu
X-WR-CALDESC:Events for CAU
REFRESH-INTERVAL;VALUE=DURATION:PT1H
X-Robots-Tag:noindex
X-PUBLISHED-TTL:PT1H
BEGIN:VTIMEZONE
TZID:America/Los_Angeles
BEGIN:DAYLIGHT
TZOFFSETFROM:-0800
TZOFFSETTO:-0700
TZNAME:PDT
DTSTART:20240310T100000
END:DAYLIGHT
BEGIN:STANDARD
TZOFFSETFROM:-0700
TZOFFSETTO:-0800
TZNAME:PST
DTSTART:20241103T090000
END:STANDARD
BEGIN:DAYLIGHT
TZOFFSETFROM:-0800
TZOFFSETTO:-0700
TZNAME:PDT
DTSTART:20250309T100000
END:DAYLIGHT
BEGIN:STANDARD
TZOFFSETFROM:-0700
TZOFFSETTO:-0800
TZNAME:PST
DTSTART:20251102T090000
END:STANDARD
BEGIN:DAYLIGHT
TZOFFSETFROM:-0800
TZOFFSETTO:-0700
TZNAME:PDT
DTSTART:20260308T100000
END:DAYLIGHT
BEGIN:STANDARD
TZOFFSETFROM:-0700
TZOFFSETTO:-0800
TZNAME:PST
DTSTART:20261101T090000
END:STANDARD
END:VTIMEZONE
BEGIN:VEVENT
DTSTART;TZID=America/Los_Angeles:20250621T090000
DTEND;TZID=America/Los_Angeles:20250621T110000
DTSTAMP:20260423T050647
CREATED:20250509T162238Z
LAST-MODIFIED:20251110T194057Z
UID:10000527-1750496400-1750503600@calaero.edu
SUMMARY:Aspiring Pilot Seminar - Sacramento June 2025 | Admissions Events
DESCRIPTION:Ready to soar in your aviation career? \n            Schedule a meeting with admissions
URL:https://calaero.edu/event/aspiring-pilot-seminar-sacramento-june-2025/
LOCATION:Aerospace Museum of California\, 3200 Freedom Park Dr.\, McClellan Park\, CA\, 95652\, United States
CATEGORIES:Aspiring Pilot Seminar
GEO:38.6751236;-121.3908893
X-APPLE-STRUCTURED-LOCATION;VALUE=URI;X-ADDRESS=Aerospace Museum of California 3200 Freedom Park Dr. McClellan Park CA 95652 United States;X-APPLE-RADIUS=500;X-TITLE=3200 Freedom Park Dr.:geo:-121.3908893,38.6751236
END:VEVENT
END:VCALENDAR